8.000000000
0.000000
0.000000
-8.000000000
512539.80524238
154816.22482477
