8.000000000
0.000000
0.000000
-8.000000000
512058.68587736
154861.34876926
