8.000000000
0.000000
0.000000
-8.000000000
512053.50280385
154856.48171229
