8.000000000
0.000000
0.000000
-8.000000000
512041.92001168
154851.08819907
