8.000000000
0.000000
0.000000
-8.000000000
511566.46847263
154116.13076769
