8.000000000
0.000000
0.000000
-8.000000000
511563.95158750
154118.94604403
