8.000000000
0.000000
0.000000
-8.000000000
511557.34961487
154148.99457280
