8.000000000
0.000000
0.000000
-8.000000000
511551.82344761
154150.00012700
