8.000000000
0.000000
0.000000
-8.000000000
505990.36102326
153174.83176043
