8.000000000
0.000000
0.000000
-8.000000000
506021.19783789
153170.34762849
