8.000000000
0.000000
0.000000
-8.000000000
506033.81556371
153229.13770328
