8.000000000
0.000000
0.000000
-8.000000000
505997.66302038
152996.53876286
