8.000000000
0.000000
0.000000
-8.000000000
505317.36712189
152597.76811820
