8.000000000
0.000000
0.000000
-8.000000000
512694.58188898
152650.87096996
