8.000000000
0.000000
0.000000
-8.000000000
512684.40072538
152654.41166786
