8.000000000
0.000000
0.000000
-8.000000000
512682.15690187
152661.54582493
