8.000000000
0.000000
0.000000
-8.000000000
512676.57613294
152643.71418351
