8.000000000
0.000000
0.000000
-8.000000000
512631.87590090
152648.05175091
