8.000000000
0.000000
0.000000
-8.000000000
512681.57727083
152635.61464943
