8.000000000
0.000000
0.000000
-8.000000000
512693.65462405
152630.50314247
