8.000000000
0.000000
0.000000
-8.000000000
512483.51249521
152632.24104599
