8.000000000
0.000000
0.000000
-8.000000000
526208.13027227
156532.77269872
