8.000000000
0.000000
0.000000
-8.000000000
525102.41289846
155703.65658967
