8.000000000
0.000000
0.000000
-8.000000000
525134.98693386
155719.62871795
