8.000000000
0.000000
0.000000
-8.000000000
525136.64583927
155751.10588062
