8.000000000
0.000000
0.000000
-8.000000000
526062.12024560
155739.36496776
