8.000000000
0.000000
0.000000
-8.000000000
526076.13480162
155753.40221367
