8.000000000
0.000000
0.000000
-8.000000000
526072.16567686
155046.30789048
