8.000000000
0.000000
0.000000
-8.000000000
526067.47385633
155010.23487336
