8.000000000
0.000000
0.000000
-8.000000000
526095.31531660
154950.92261474
