8.000000000
0.000000
0.000000
-8.000000000
526127.13613967
154921.51614328
