8.000000000
0.000000
0.000000
-8.000000000
526118.15515490
154900.93402944
