8.000000000
0.000000
0.000000
-8.000000000
526131.71225527
154912.19769596
