8.000000000
0.000000
0.000000
-8.000000000
526085.10937325
154435.04812087
