8.000000000
0.000000
0.000000
-8.000000000
526062.99770168
154456.92773367
