8.000000000
0.000000
0.000000
-8.000000000
526065.40054555
154212.02488861
