8.000000000
0.000000
0.000000
-8.000000000
526055.24037026
154217.70450675
