8.000000000
0.000000
0.000000
-8.000000000
526136.55943156
150045.86908063
