8.000000000
0.000000
0.000000
-8.000000000
525804.97968441
151629.61038406
