8.000000000
0.000000
0.000000
-8.000000000
524749.85132660
151654.07335759
