8.000000000
0.000000
0.000000
-8.000000000
524748.57622397
151654.39764399
