8.000000000
0.000000
0.000000
-8.000000000
524769.03224794
151601.03668519
