8.000000000
0.000000
0.000000
-8.000000000
524761.76219190
151581.67102599
