8.000000000
0.000000
0.000000
-8.000000000
524743.47956649
151656.00353996
