8.000000000
0.000000
0.000000
-8.000000000
524741.76317280
151655.09801694
