8.000000000
0.000000
0.000000
-8.000000000
524743.89834765
151655.38086460
