8.000000000
0.000000
0.000000
-8.000000000
524756.66746369
151636.08053255
