8.000000000
0.000000
0.000000
-8.000000000
524364.35795540
151682.85533540
