8.000000000
0.000000
0.000000
-8.000000000
524386.11519262
151701.42604432
