8.000000000
0.000000
0.000000
-8.000000000
523545.45815126
151691.98576153
